BEGIN:VCALENDAR
VERSION:2.0
PRODID:-//Monoblet - ECPv6.15.20//NONSGML v1.0//EN
CALSCALE:GREGORIAN
METHOD:PUBLISH
X-WR-CALNAME:Monoblet
X-ORIGINAL-URL:https://www.monoblet.fr
X-WR-CALDESC:Évènements pour Monoblet
REFRESH-INTERVAL;VALUE=DURATION:PT1H
X-Robots-Tag:noindex
X-PUBLISHED-TTL:PT1H
BEGIN:VTIMEZONE
TZID:Europe/Paris
BEGIN:DAYLIGHT
TZOFFSETFROM:+0100
TZOFFSETTO:+0200
TZNAME:CEST
DTSTART:20250330T010000
END:DAYLIGHT
BEGIN:STANDARD
TZOFFSETFROM:+0200
TZOFFSETTO:+0100
TZNAME:CET
DTSTART:20251026T010000
END:STANDARD
BEGIN:DAYLIGHT
TZOFFSETFROM:+0100
TZOFFSETTO:+0200
TZNAME:CEST
DTSTART:20260329T010000
END:DAYLIGHT
BEGIN:STANDARD
TZOFFSETFROM:+0200
TZOFFSETTO:+0100
TZNAME:CET
DTSTART:20261025T010000
END:STANDARD
BEGIN:DAYLIGHT
TZOFFSETFROM:+0100
TZOFFSETTO:+0200
TZNAME:CEST
DTSTART:20270328T010000
END:DAYLIGHT
BEGIN:STANDARD
TZOFFSETFROM:+0200
TZOFFSETTO:+0100
TZNAME:CET
DTSTART:20271031T010000
END:STANDARD
END:VTIMEZONE
BEGIN:VEVENT
DTSTART;VALUE=DATE:20260420
DTEND;VALUE=DATE:20260426
DTSTAMP:20260420T130643
CREATED:20240330T165131Z
LAST-MODIFIED:20260408T125601Z
UID:5818-1776643200-1777161599@www.monoblet.fr
SUMMARY:Stage de cirque enfants
DESCRIPTION:Du 20 au 25 avril (avec une “journée off” le jeudi dans le cadre de l’animation Beluga)\, dans la salle culturelle B. Meulien\, les associations Lo Quinquet et Extra Show proposent  un stage de cirque pour enfant avec Marion – Inscription obligatoire à loquinquet@gmail.com / site internet www.loquinquet.com / 0634382136 \n \n 
URL:https://www.monoblet.fr/event/stage-de-cirque-enfants-3/
CATEGORIES:Animation,Stages
END:VEVENT
BEGIN:VEVENT
DTSTART;VALUE=DATE:20260420
DTEND;VALUE=DATE:20260423
DTSTAMP:20260420T130643
CREATED:20220418T141018Z
LAST-MODIFIED:20260408T125436Z
UID:2312-1776643200-1776902399@www.monoblet.fr
SUMMARY:Stage M.A.O. Lo Quinquet
DESCRIPTION:Lo Quinquet propose un stage d’initiation à la Musique Assistée par Ordinateur  à l’Auberge\, avec Vincent (Prix  60€) et le mercredi 22 avril un stage confirmation (projet son) MAO (prix 30€)
URL:https://www.monoblet.fr/event/stage-de-cirque-enfants/
CATEGORIES:Animation,Culture,Stages
END:VEVENT
BEGIN:VEVENT
DTSTART;VALUE=DATE:20260420
DTEND;VALUE=DATE:20260501
DTSTAMP:20260420T130643
CREATED:20230614T090509Z
LAST-MODIFIED:20260407T130924Z
UID:4267-1776643200-1777593599@www.monoblet.fr
SUMMARY:Déviation RD185 Hameau de Pailhès
DESCRIPTION:Les réparations sur un mur de soutènement sur la D185 au Hameau de Pailhès nécessitent 2 semaines de travaux du 20 avril au 30 avril 2026 avec coupure de la voie et déviation\, selon l’arrêté temporaire de circulation mis en place par le conseil Département du Gard.
URL:https://www.monoblet.fr/event/deviation-rd39-valestaliere/
CATEGORIES:Mairie
END:VEVENT
END:VCALENDAR