BEGIN:VCALENDAR
VERSION:2.0
PRODID:-//Monoblet - ECPv6.15.20//NONSGML v1.0//EN
CALSCALE:GREGORIAN
METHOD:PUBLISH
X-ORIGINAL-URL:https://www.monoblet.fr
X-WR-CALDESC:Évènements pour Monoblet
REFRESH-INTERVAL;VALUE=DURATION:PT1H
X-Robots-Tag:noindex
X-PUBLISHED-TTL:PT1H
BEGIN:VTIMEZONE
TZID:Europe/Paris
BEGIN:DAYLIGHT
TZOFFSETFROM:+0100
TZOFFSETTO:+0200
TZNAME:CEST
DTSTART:20220327T010000
END:DAYLIGHT
BEGIN:STANDARD
TZOFFSETFROM:+0200
TZOFFSETTO:+0100
TZNAME:CET
DTSTART:20221030T010000
END:STANDARD
BEGIN:DAYLIGHT
TZOFFSETFROM:+0100
TZOFFSETTO:+0200
TZNAME:CEST
DTSTART:20230326T010000
END:DAYLIGHT
BEGIN:STANDARD
TZOFFSETFROM:+0200
TZOFFSETTO:+0100
TZNAME:CET
DTSTART:20231029T010000
END:STANDARD
BEGIN:DAYLIGHT
TZOFFSETFROM:+0100
TZOFFSETTO:+0200
TZNAME:CEST
DTSTART:20240331T010000
END:DAYLIGHT
BEGIN:STANDARD
TZOFFSETFROM:+0200
TZOFFSETTO:+0100
TZNAME:CET
DTSTART:20241027T010000
END:STANDARD
END:VTIMEZONE
BEGIN:VEVENT
DTSTART;VALUE=DATE:20230804
DTEND;VALUE=DATE:20230807
DTSTAMP:20260424T075301
CREATED:20230227T155134Z
LAST-MODIFIED:20230722T132321Z
UID:3762-1691107200-1691366399@www.monoblet.fr
SUMMARY:FÊTE VOTIVE
DESCRIPTION:L’USMonoblet organise sa traditionnelle fête votive de l’été du 3 au 6 août sur la Place des Magnans.
URL:https://www.monoblet.fr/event/fete-votive-2/
CATEGORIES:Animation,Football
END:VEVENT
BEGIN:VEVENT
DTSTART;TZID=Europe/Paris:20230818T180000
DTEND;TZID=Europe/Paris:20230818T180000
DTSTAMP:20260424T075301
CREATED:20230810T120037Z
LAST-MODIFIED:20230810T132338Z
UID:4509-1692381600-1692381600@www.monoblet.fr
SUMMARY:Conférence au Temple
DESCRIPTION:Conférence de Mr Alain Duhamel sur “la crise de la démocratie française” au Temple de Monoblet ce 18 août à 18h.
URL:https://www.monoblet.fr/event/conference-au-temple/
CATEGORIES:Animation,Culture
END:VEVENT
BEGIN:VEVENT
DTSTART;TZID=Europe/Paris:20230830T080000
DTEND;TZID=Europe/Paris:20230830T170000
DTSTAMP:20260424T075301
CREATED:20230914T050022Z
LAST-MODIFIED:20230830T090036Z
UID:4647-1693382400-1693414800@www.monoblet.fr
SUMMARY:Voyage "Municipal"
DESCRIPTION:Le voyage de printemps\, proposé par la mairie\, reporté en raison d’intempéries\, aura bien lieu ce 14 septembre.\nIl reste ouvert à tous. Inscription en mairie jusqu’au 5 septembre.
URL:https://www.monoblet.fr/event/voyage/
CATEGORIES:Animation,Mairie
END:VEVENT
END:VCALENDAR