BEGIN:VCALENDAR
VERSION:2.0
PRODID:-//Monoblet - ECPv6.15.20//NONSGML v1.0//EN
CALSCALE:GREGORIAN
METHOD:PUBLISH
X-ORIGINAL-URL:https://www.monoblet.fr
X-WR-CALDESC:Évènements pour Monoblet
REFRESH-INTERVAL;VALUE=DURATION:PT1H
X-Robots-Tag:noindex
X-PUBLISHED-TTL:PT1H
BEGIN:VTIMEZONE
TZID:Europe/Paris
BEGIN:DAYLIGHT
TZOFFSETFROM:+0100
TZOFFSETTO:+0200
TZNAME:CEST
DTSTART:20220327T010000
END:DAYLIGHT
BEGIN:STANDARD
TZOFFSETFROM:+0200
TZOFFSETTO:+0100
TZNAME:CET
DTSTART:20221030T010000
END:STANDARD
BEGIN:DAYLIGHT
TZOFFSETFROM:+0100
TZOFFSETTO:+0200
TZNAME:CEST
DTSTART:20230326T010000
END:DAYLIGHT
BEGIN:STANDARD
TZOFFSETFROM:+0200
TZOFFSETTO:+0100
TZNAME:CET
DTSTART:20231029T010000
END:STANDARD
BEGIN:DAYLIGHT
TZOFFSETFROM:+0100
TZOFFSETTO:+0200
TZNAME:CEST
DTSTART:20240331T010000
END:DAYLIGHT
BEGIN:STANDARD
TZOFFSETFROM:+0200
TZOFFSETTO:+0100
TZNAME:CET
DTSTART:20241027T010000
END:STANDARD
END:VTIMEZONE
BEGIN:VEVENT
DTSTART;TZID=Europe/Paris:20231215T190000
DTEND;TZID=Europe/Paris:20231215T190000
DTSTAMP:20260424T002848
CREATED:20231214T195616Z
LAST-MODIFIED:20231214T195616Z
UID:5319-1702666800-1702666800@www.monoblet.fr
SUMMARY:Soirée "soupe" à la chapelle
DESCRIPTION:L’Église Réformée Évangélique de Monoblet propose une soirée ouverte à tous\, à la chapelle route d’Anduze : une soirée près du poêle à déguster des soupes délicieuses !\nInscription au 0466852233  et 06167279
URL:https://www.monoblet.fr/event/soiree-soupe-a-la-chapelle/
CATEGORIES:Animation
END:VEVENT
BEGIN:VEVENT
DTSTART;VALUE=DATE:20231216
DTEND;VALUE=DATE:20231217
DTSTAMP:20260424T002848
CREATED:20231027T075048Z
LAST-MODIFIED:20231117T123432Z
UID:5020-1702684800-1702771199@www.monoblet.fr
SUMMARY:Marché de Noël
DESCRIPTION:Le traditionnel Marché de Noël\, organisé par l’association Lo Quinquet\, se tiendra dans l’ancienne école toute la journée (de 10 à 16 H) : de nombreux exposants\, créateurs et producteurs\, de la musique\, à boire et à manger !\n \n 
URL:https://www.monoblet.fr/event/marche-de-noel-2/
CATEGORIES:Animation,Marché
END:VEVENT
BEGIN:VEVENT
DTSTART;VALUE=DATE:20231227
DTEND;VALUE=DATE:20231228
DTSTAMP:20260424T002848
CREATED:20231227T142321Z
LAST-MODIFIED:20231227T142321Z
UID:5371-1703635200-1703721599@www.monoblet.fr
SUMMARY:Fête 50 ans de Lo Quinquet
DESCRIPTION:Lo Quinquet fête ses 50 ans sur la Place des Magnans !
URL:https://www.monoblet.fr/event/fete-50-ans-de-lo-quinquet/
CATEGORIES:Animation,Culture,Spectacles
END:VEVENT
END:VCALENDAR