BEGIN:VCALENDAR
VERSION:2.0
PRODID:-//Monoblet - ECPv6.15.20//NONSGML v1.0//EN
CALSCALE:GREGORIAN
METHOD:PUBLISH
X-ORIGINAL-URL:https://www.monoblet.fr
X-WR-CALDESC:Évènements pour Monoblet
REFRESH-INTERVAL;VALUE=DURATION:PT1H
X-Robots-Tag:noindex
X-PUBLISHED-TTL:PT1H
BEGIN:VTIMEZONE
TZID:Europe/Paris
BEGIN:DAYLIGHT
TZOFFSETFROM:+0100
TZOFFSETTO:+0200
TZNAME:CEST
DTSTART:20230326T010000
END:DAYLIGHT
BEGIN:STANDARD
TZOFFSETFROM:+0200
TZOFFSETTO:+0100
TZNAME:CET
DTSTART:20231029T010000
END:STANDARD
BEGIN:DAYLIGHT
TZOFFSETFROM:+0100
TZOFFSETTO:+0200
TZNAME:CEST
DTSTART:20240331T010000
END:DAYLIGHT
BEGIN:STANDARD
TZOFFSETFROM:+0200
TZOFFSETTO:+0100
TZNAME:CET
DTSTART:20241027T010000
END:STANDARD
BEGIN:DAYLIGHT
TZOFFSETFROM:+0100
TZOFFSETTO:+0200
TZNAME:CEST
DTSTART:20250330T010000
END:DAYLIGHT
BEGIN:STANDARD
TZOFFSETFROM:+0200
TZOFFSETTO:+0100
TZNAME:CET
DTSTART:20251026T010000
END:STANDARD
END:VTIMEZONE
BEGIN:VEVENT
DTSTART;TZID=Europe/Paris:20240117T103000
DTEND;TZID=Europe/Paris:20240117T103000
DTSTAMP:20260423T224724
CREATED:20231220T123446Z
LAST-MODIFIED:20231220T123446Z
UID:5345-1705487400-1705487400@www.monoblet.fr
SUMMARY:Atelier numérique gratuit
DESCRIPTION:Le conseiller numérique de la communauté de communes du Piémont Cévenol anime un atelier “le QR Code”” dans l’annexe de la CCPC Rue Max Olivier Lacan à Monoblet. Inscription obligatoire au 07 87 04 92 97
URL:https://www.monoblet.fr/event/atelier-numerique-gratuit/
CATEGORIES:Animation
END:VEVENT
BEGIN:VEVENT
DTSTART;VALUE=DATE:20240120
DTEND;VALUE=DATE:20240701
DTSTAMP:20260423T224724
CREATED:20240120T144620Z
LAST-MODIFIED:20240428T064640Z
UID:5523-1705708800-1719791999@www.monoblet.fr
SUMMARY:Fermeture de la Médiathèque
DESCRIPTION:En raison de travaux urgents de rénovation\, la médiathèque de Monoblet est fermée pour quelques mois. Merci de votre compréhension
URL:https://www.monoblet.fr/event/fermeture-de-la-mediatheque/
CATEGORIES:Animation,Culture
END:VEVENT
BEGIN:VEVENT
DTSTART;TZID=Europe/Paris:20240127T143000
DTEND;TZID=Europe/Paris:20240127T143000
DTSTAMP:20260423T224724
CREATED:20231006T141747Z
LAST-MODIFIED:20240116T094112Z
UID:4833-1706365800-1706365800@www.monoblet.fr
SUMMARY:LOTO de l’ÉCOLE
DESCRIPTION:L’association des parents d’élèves (APE) organise le traditionnel loto de l’école. Nombreuses quines\, tombola\nPetites collations sur place
URL:https://www.monoblet.fr/event/loto-de-lecole-3/
CATEGORIES:Animation,Loto
END:VEVENT
BEGIN:VEVENT
DTSTART;TZID=Europe/Paris:20240129T180000
DTEND;TZID=Europe/Paris:20240129T180000
DTSTAMP:20260423T224724
CREATED:20240116T143557Z
LAST-MODIFIED:20240116T143557Z
UID:5483-1706551200-1706551200@www.monoblet.fr
SUMMARY:AG de l'association Ortalecia
DESCRIPTION:L’association Ortalecia (Jardins familiaux) organise son assemblée générale ce lundi 29 janvier à 18h dans une salle de l’ancienne école.
URL:https://www.monoblet.fr/event/ag-de-lassociation-ortalecia/
CATEGORIES:Animation
END:VEVENT
END:VCALENDAR