BEGIN:VCALENDAR
VERSION:2.0
PRODID:-//Monoblet - ECPv6.15.20//NONSGML v1.0//EN
CALSCALE:GREGORIAN
METHOD:PUBLISH
X-ORIGINAL-URL:https://www.monoblet.fr
X-WR-CALDESC:Évènements pour Monoblet
REFRESH-INTERVAL;VALUE=DURATION:PT1H
X-Robots-Tag:noindex
X-PUBLISHED-TTL:PT1H
BEGIN:VTIMEZONE
TZID:Europe/Paris
BEGIN:DAYLIGHT
TZOFFSETFROM:+0100
TZOFFSETTO:+0200
TZNAME:CEST
DTSTART:20230326T010000
END:DAYLIGHT
BEGIN:STANDARD
TZOFFSETFROM:+0200
TZOFFSETTO:+0100
TZNAME:CET
DTSTART:20231029T010000
END:STANDARD
BEGIN:DAYLIGHT
TZOFFSETFROM:+0100
TZOFFSETTO:+0200
TZNAME:CEST
DTSTART:20240331T010000
END:DAYLIGHT
BEGIN:STANDARD
TZOFFSETFROM:+0200
TZOFFSETTO:+0100
TZNAME:CET
DTSTART:20241027T010000
END:STANDARD
BEGIN:DAYLIGHT
TZOFFSETFROM:+0100
TZOFFSETTO:+0200
TZNAME:CEST
DTSTART:20250330T010000
END:DAYLIGHT
BEGIN:STANDARD
TZOFFSETFROM:+0200
TZOFFSETTO:+0100
TZNAME:CET
DTSTART:20251026T010000
END:STANDARD
END:VTIMEZONE
BEGIN:VEVENT
DTSTART;VALUE=DATE:20240120
DTEND;VALUE=DATE:20240701
DTSTAMP:20260423T204956
CREATED:20240120T144620Z
LAST-MODIFIED:20240428T064640Z
UID:5523-1705708800-1719791999@www.monoblet.fr
SUMMARY:Fermeture de la Médiathèque
DESCRIPTION:En raison de travaux urgents de rénovation\, la médiathèque de Monoblet est fermée pour quelques mois. Merci de votre compréhension
URL:https://www.monoblet.fr/event/fermeture-de-la-mediatheque/
CATEGORIES:Animation,Culture
END:VEVENT
BEGIN:VEVENT
DTSTART;TZID=Europe/Paris:20240210T140000
DTEND;TZID=Europe/Paris:20240210T140000
DTSTAMP:20260423T204956
CREATED:20240125T153515Z
LAST-MODIFIED:20240125T153515Z
UID:5538-1707573600-1707573600@www.monoblet.fr
SUMMARY:Appel à participation
DESCRIPTION:Soutenu pas les associations Lo Quinquet et Monomaniax\, le N.U. collectif déploie « Espaces Vivants » laboratoire nomade de création collaborative entre participant·e·s et artistes pluridisciplinaires\, venant tant de la danse\, des arts plastiques\, du théâtre\, de la musique que des arts numériques.\nL’objectif est de créer une « communauté artistique » en mettant l’accent sur les spécificités de chacun·e\, pour explorer ensemble et dans toutes les directions des pratiques sonores\, performatives et visuelles.\nUn première résidence a lieu à Monoblet ce samedi 10 et dimanche 11 février dans l’espace culturel B. Meulien.\nParticipation gratuite sur inscription : collectifnu.admi@gmail.com / 06. 62. 08. 32. 36\nhttp://www.nucollectif.com/espaces_vivants/calendrier/
URL:https://www.monoblet.fr/event/appel-a-participation/
CATEGORIES:Animation,Culture
END:VEVENT
BEGIN:VEVENT
DTSTART;TZID=Europe/Paris:20240211T140000
DTEND;TZID=Europe/Paris:20240211T140000
DTSTAMP:20260423T204956
CREATED:20240125T160911Z
LAST-MODIFIED:20240125T160911Z
UID:5541-1707660000-1707660000@www.monoblet.fr
SUMMARY:Appel à participation
DESCRIPTION:Soutenu pas les associations Lo Quinquet et Monomaniax\, le N.U. collectif déploie « Espaces Vivants » laboratoire nomade de création collaborative entre participant·e·s et artistes pluridisciplinaires\, venant tant de la danse\, des arts plastiques\, du théâtre\, de la musique que des arts numériques.\nL’objectif est de créer une « communauté artistique » en mettant l’accent sur les spécificités de chacun·e\, pour explorer ensemble et dans toutes les directions des pratiques sonores\, performatives et visuelles.\nUn première résidence a lieu à Monoblet ce samedi 10 et dimanche 11 février dans l’espace culturel B. Meulien.\nParticipation gratuite sur inscription : collectifnu.admi@gmail.com / 06. 62. 08. 32. 36\nhttp://www.nucollectif.com/espaces_vivants/calendrier/
URL:https://www.monoblet.fr/event/appel-a-participation-2/
CATEGORIES:Animation,Culture
END:VEVENT
BEGIN:VEVENT
DTSTART;TZID=Europe/Paris:20240214T103000
DTEND;TZID=Europe/Paris:20240214T103000
DTSTAMP:20260423T204956
CREATED:20240122T154403Z
LAST-MODIFIED:20240122T154403Z
UID:5525-1707906600-1707906600@www.monoblet.fr
SUMMARY:Atelier numérique gratuit
DESCRIPTION:Le conseiller numérique de la communauté de communes du Piémont Cévenol anime un atelier “session Questions/Réponses sur le numérique”” dans l’annexe de la CCPC Rue Max Olivier Lacan à Monoblet. Inscription obligatoire au 07 87 04 92 97
URL:https://www.monoblet.fr/event/atelier-numerique-gratuit-2/
CATEGORIES:Animation
END:VEVENT
BEGIN:VEVENT
DTSTART;TZID=Europe/Paris:20240214T133000
DTEND;TZID=Europe/Paris:20240214T133000
DTSTAMP:20260423T204956
CREATED:20240213T131043Z
LAST-MODIFIED:20240213T132152Z
UID:5619-1707917400-1707917400@www.monoblet.fr
SUMMARY:Après midi Jeux de société
DESCRIPTION:L’association Chats Badabada organise deux après-midi “jeux de société” les 14 et 21 février de 13h30 à 17h dans la salle du Conseil (Mairie 1er étage)
URL:https://www.monoblet.fr/event/apres-midi-jeux-de-societe/
CATEGORIES:Animation
END:VEVENT
END:VCALENDAR