BEGIN:VCALENDAR
VERSION:2.0
PRODID:-//Monoblet - ECPv6.15.20//NONSGML v1.0//EN
CALSCALE:GREGORIAN
METHOD:PUBLISH
X-ORIGINAL-URL:https://www.monoblet.fr
X-WR-CALDESC:Évènements pour Monoblet
REFRESH-INTERVAL;VALUE=DURATION:PT1H
X-Robots-Tag:noindex
X-PUBLISHED-TTL:PT1H
BEGIN:VTIMEZONE
TZID:Europe/Paris
BEGIN:DAYLIGHT
TZOFFSETFROM:+0100
TZOFFSETTO:+0200
TZNAME:CEST
DTSTART:20230326T010000
END:DAYLIGHT
BEGIN:STANDARD
TZOFFSETFROM:+0200
TZOFFSETTO:+0100
TZNAME:CET
DTSTART:20231029T010000
END:STANDARD
BEGIN:DAYLIGHT
TZOFFSETFROM:+0100
TZOFFSETTO:+0200
TZNAME:CEST
DTSTART:20240331T010000
END:DAYLIGHT
BEGIN:STANDARD
TZOFFSETFROM:+0200
TZOFFSETTO:+0100
TZNAME:CET
DTSTART:20241027T010000
END:STANDARD
BEGIN:DAYLIGHT
TZOFFSETFROM:+0100
TZOFFSETTO:+0200
TZNAME:CEST
DTSTART:20250330T010000
END:DAYLIGHT
BEGIN:STANDARD
TZOFFSETFROM:+0200
TZOFFSETTO:+0100
TZNAME:CET
DTSTART:20251026T010000
END:STANDARD
END:VTIMEZONE
BEGIN:VEVENT
DTSTART;VALUE=DATE:20240906
DTEND;VALUE=DATE:20240908
DTSTAMP:20260421T070218
CREATED:20240830T125509Z
LAST-MODIFIED:20240907T135440Z
UID:6571-1725580800-1725753599@www.monoblet.fr
SUMMARY:Annulé - Rallye cigalois
DESCRIPTION: Passage du rallye le samedi 7/09 toute la journée sur la D 122 et D 185.\nArrêté temporaire de circulation du CD30\nRens. 0659737748 / www.asacigaloise.fr
URL:https://www.monoblet.fr/event/rallye-cigalois/
CATEGORIES:Animation
END:VEVENT
BEGIN:VEVENT
DTSTART;VALUE=DATE:20240914
DTEND;VALUE=DATE:20240915
DTSTAMP:20260421T070218
CREATED:20240830T125207Z
LAST-MODIFIED:20240905T065517Z
UID:6569-1726272000-1726358399@www.monoblet.fr
SUMMARY:Fête ANNIVERSAIRE LO QUINQUET
DESCRIPTION:Journée de fête sur la Place des Magnans pour les 50 ans de l’association LO QUINQUET
URL:https://www.monoblet.fr/event/fete-anniversaire-lo-quinquet/
CATEGORIES:Animation
END:VEVENT
BEGIN:VEVENT
DTSTART;TZID=Europe/Paris:20240917T164500
DTEND;TZID=Europe/Paris:20240917T164500
DTSTAMP:20260421T070218
CREATED:20240903T131958Z
LAST-MODIFIED:20240903T131958Z
UID:6616-1726591500-1726591500@www.monoblet.fr
SUMMARY:AG de l'APE
DESCRIPTION:L’association des Parents d’élèves de l’école organise son Assemblée Générale  le mardi 17 septembre à 16h45\, dans la salle des anciens vestiaires (stade municipal)
URL:https://www.monoblet.fr/event/ag-de-lape/
CATEGORIES:Animation
END:VEVENT
BEGIN:VEVENT
DTSTART;TZID=Europe/Paris:20240920T103000
DTEND;TZID=Europe/Paris:20240920T103000
DTSTAMP:20260421T070218
CREATED:20240906T082417Z
LAST-MODIFIED:20240910T081939Z
UID:6684-1726828200-1726828200@www.monoblet.fr
SUMMARY:AG de l'association Gim Tonic
DESCRIPTION:L’assemblée générale de l’association Gim Tonic se tiendra le vendredi 20 septembre à 10h30 dans la salle des anciens vestiaires. La réunion se terminera par le pot de l’amitié.
URL:https://www.monoblet.fr/event/ag-de-lassociation-gim-tonic/
CATEGORIES:Animation
END:VEVENT
BEGIN:VEVENT
DTSTART;TZID=Europe/Paris:20240928T150000
DTEND;TZID=Europe/Paris:20240928T150000
DTSTAMP:20260421T070218
CREATED:20240827T080332Z
LAST-MODIFIED:20240827T081152Z
UID:6536-1727535600-1727535600@www.monoblet.fr
SUMMARY:Festival Les z'Enfants d'Abord
DESCRIPTION:Cette année\, le lancement du festival “Les z’Enfants d’Abord 2024” a lieu à Monoblet dans la salle culturelle ce samedi 28 septembre à 15h avec le spectacle La Douceur de la compagnie Evedia\, avec Sabine Messina\, un récit de papier pour gamine chiffonnée.\nUn goûter sera offert aux spectateurs par la CCPC à l’issue du spectacle \nla douceur
URL:https://www.monoblet.fr/event/festival-les-zenfants-dabord-2/
CATEGORIES:Animation,Culture,Spectacles
END:VEVENT
END:VCALENDAR