BEGIN:VCALENDAR
VERSION:2.0
PRODID:-//Monoblet - ECPv6.15.20//NONSGML v1.0//EN
CALSCALE:GREGORIAN
METHOD:PUBLISH
X-WR-CALNAME:Monoblet
X-ORIGINAL-URL:https://www.monoblet.fr
X-WR-CALDESC:Évènements pour Monoblet
REFRESH-INTERVAL;VALUE=DURATION:PT1H
X-Robots-Tag:noindex
X-PUBLISHED-TTL:PT1H
BEGIN:VTIMEZONE
TZID:Europe/Paris
BEGIN:DAYLIGHT
TZOFFSETFROM:+0100
TZOFFSETTO:+0200
TZNAME:CEST
DTSTART:20230326T010000
END:DAYLIGHT
BEGIN:STANDARD
TZOFFSETFROM:+0200
TZOFFSETTO:+0100
TZNAME:CET
DTSTART:20231029T010000
END:STANDARD
BEGIN:DAYLIGHT
TZOFFSETFROM:+0100
TZOFFSETTO:+0200
TZNAME:CEST
DTSTART:20240331T010000
END:DAYLIGHT
BEGIN:STANDARD
TZOFFSETFROM:+0200
TZOFFSETTO:+0100
TZNAME:CET
DTSTART:20241027T010000
END:STANDARD
BEGIN:DAYLIGHT
TZOFFSETFROM:+0100
TZOFFSETTO:+0200
TZNAME:CEST
DTSTART:20250330T010000
END:DAYLIGHT
BEGIN:STANDARD
TZOFFSETFROM:+0200
TZOFFSETTO:+0100
TZNAME:CET
DTSTART:20251026T010000
END:STANDARD
END:VTIMEZONE
BEGIN:VEVENT
DTSTART;VALUE=DATE:20241004
DTEND;VALUE=DATE:20241006
DTSTAMP:20260421T045708
CREATED:20240126T125837Z
LAST-MODIFIED:20240912T064450Z
UID:5543-1728000000-1728172799@www.monoblet.fr
SUMMARY:2e édition Festival "D'Autres Vies"
DESCRIPTION:Les associations Lo Quinquet et Tentative organisent la 2e  édition du festival “D’Autres Vies”.
URL:https://www.monoblet.fr/event/2e-edition-festival-dautres-vies/
CATEGORIES:Animation,Cinéma,Culture
END:VEVENT
BEGIN:VEVENT
DTSTART;VALUE=DATE:20241006
DTEND;VALUE=DATE:20241007
DTSTAMP:20260421T045708
CREATED:20240827T081054Z
LAST-MODIFIED:20240827T081054Z
UID:6540-1728172800-1728259199@www.monoblet.fr
SUMMARY:Randonnée Cyclotouriste de la Châtaigne
DESCRIPTION:Le vélo-club Lasallois organise la randonnée cyclotouriste de la châtaigne le 6 octobre 2024. Le circuit n°3 passera par Monoblet (Valestalière et Pailhès). Rens : 0689181479
URL:https://www.monoblet.fr/event/randonnee-cyclotouriste-de-la-chataigne/
CATEGORIES:Animation
END:VEVENT
BEGIN:VEVENT
DTSTART;VALUE=DATE:20241011
DTEND;VALUE=DATE:20241013
DTSTAMP:20260421T045708
CREATED:20240830T133142Z
LAST-MODIFIED:20241004T075701Z
UID:6581-1728604800-1728777599@www.monoblet.fr
SUMMARY:RABANELLE et FRIPERIE de l'école
DESCRIPTION:A l’occasion des élections des représentants de parents au conseil d’école\, l’APE de Monoblet invite la population dans la cour de l’ancienne école à une soirée conviviale autour de châtaignes grillées\, soupe de courge\, vin chaud et autres délices d’automne! Une soirée RABANELLE à ne pas manquer ! Dès 13 heures 30 BROCANTE et FRIPERIE qui se prolongeront le samedi  !\n \n \n  \n 
URL:https://www.monoblet.fr/event/rabanelle/
CATEGORIES:Animation
END:VEVENT
BEGIN:VEVENT
DTSTART;TZID=Europe/Paris:20241018T203000
DTEND;TZID=Europe/Paris:20241018T203000
DTSTAMP:20260421T045708
CREATED:20240830T130435Z
LAST-MODIFIED:20240930T055709Z
UID:6573-1729283400-1729283400@www.monoblet.fr
SUMMARY:Bal Trad pour Legmoin
DESCRIPTION:L’association pour Legmoin propose une soirée bal folk avec Bal Bichette dans la salle culturelle dès 20h30.
URL:https://www.monoblet.fr/event/bal-trad-pour-legmoin/
CATEGORIES:Animation,Culture
END:VEVENT
END:VCALENDAR