BEGIN:VCALENDAR
VERSION:2.0
PRODID:-//Monoblet - ECPv6.15.20//NONSGML v1.0//EN
CALSCALE:GREGORIAN
METHOD:PUBLISH
X-ORIGINAL-URL:https://www.monoblet.fr
X-WR-CALDESC:Évènements pour Monoblet
REFRESH-INTERVAL;VALUE=DURATION:PT1H
X-Robots-Tag:noindex
X-PUBLISHED-TTL:PT1H
BEGIN:VTIMEZONE
TZID:Europe/Paris
BEGIN:DAYLIGHT
TZOFFSETFROM:+0100
TZOFFSETTO:+0200
TZNAME:CEST
DTSTART:20230326T010000
END:DAYLIGHT
BEGIN:STANDARD
TZOFFSETFROM:+0200
TZOFFSETTO:+0100
TZNAME:CET
DTSTART:20231029T010000
END:STANDARD
BEGIN:DAYLIGHT
TZOFFSETFROM:+0100
TZOFFSETTO:+0200
TZNAME:CEST
DTSTART:20240331T010000
END:DAYLIGHT
BEGIN:STANDARD
TZOFFSETFROM:+0200
TZOFFSETTO:+0100
TZNAME:CET
DTSTART:20241027T010000
END:STANDARD
BEGIN:DAYLIGHT
TZOFFSETFROM:+0100
TZOFFSETTO:+0200
TZNAME:CEST
DTSTART:20250330T010000
END:DAYLIGHT
BEGIN:STANDARD
TZOFFSETFROM:+0200
TZOFFSETTO:+0100
TZNAME:CET
DTSTART:20251026T010000
END:STANDARD
END:VTIMEZONE
BEGIN:VEVENT
DTSTART;TZID=Europe/Paris:20241102T100000
DTEND;TZID=Europe/Paris:20241102T100000
DTSTAMP:20260421T025859
CREATED:20241025T133949Z
LAST-MODIFIED:20241025T133949Z
UID:6934-1730541600-1730541600@www.monoblet.fr
SUMMARY:Atelier de Mouvement
DESCRIPTION:Chiharu Mamiya\, danseuse professionnelle\,  propose un Atelier Danse en partenariat avec l’ EVS Lo Quinquet le samedi 2 Novembre de 10h à 16h\nSalle de motricité à Monoblet\nRéservation obligatoires auprès de Chiharu au 06 85 70 35 37\nTarif 50 euros la journée
URL:https://www.monoblet.fr/event/atelier-de-mouvement/
CATEGORIES:Animation,Culture
END:VEVENT
BEGIN:VEVENT
DTSTART;VALUE=DATE:20241109
DTEND;VALUE=DATE:20241110
DTSTAMP:20260421T025859
CREATED:20241105T072326Z
LAST-MODIFIED:20241105T072326Z
UID:7027-1731110400-1731196799@www.monoblet.fr
SUMMARY:Fête de l'Arbouse - Jardins de Mazet
DESCRIPTION:Le samedi 9 novembre\, de 10 à 16h\, “Bienfaits infusions” propose un journée familiale pour fêter l’automne aux Jardins de Mazet : balades et ateliers autour du végétal\, grande braderie d’herboristerie\, et guinguette gourmande. tel : 06 11 14 88 57
URL:https://www.monoblet.fr/event/fete-de-larbouse-jardins-de-mazet/
CATEGORIES:Animation,Marché
END:VEVENT
END:VCALENDAR