BEGIN:VCALENDAR
VERSION:2.0
PRODID:-//Monoblet - ECPv6.15.20//NONSGML v1.0//EN
CALSCALE:GREGORIAN
METHOD:PUBLISH
X-ORIGINAL-URL:https://www.monoblet.fr
X-WR-CALDESC:Évènements pour Monoblet
REFRESH-INTERVAL;VALUE=DURATION:PT1H
X-Robots-Tag:noindex
X-PUBLISHED-TTL:PT1H
BEGIN:VTIMEZONE
TZID:Europe/Paris
BEGIN:DAYLIGHT
TZOFFSETFROM:+0100
TZOFFSETTO:+0200
TZNAME:CEST
DTSTART:20240331T010000
END:DAYLIGHT
BEGIN:STANDARD
TZOFFSETFROM:+0200
TZOFFSETTO:+0100
TZNAME:CET
DTSTART:20241027T010000
END:STANDARD
BEGIN:DAYLIGHT
TZOFFSETFROM:+0100
TZOFFSETTO:+0200
TZNAME:CEST
DTSTART:20250330T010000
END:DAYLIGHT
BEGIN:STANDARD
TZOFFSETFROM:+0200
TZOFFSETTO:+0100
TZNAME:CET
DTSTART:20251026T010000
END:STANDARD
BEGIN:DAYLIGHT
TZOFFSETFROM:+0100
TZOFFSETTO:+0200
TZNAME:CEST
DTSTART:20260329T010000
END:DAYLIGHT
BEGIN:STANDARD
TZOFFSETFROM:+0200
TZOFFSETTO:+0100
TZNAME:CET
DTSTART:20261025T010000
END:STANDARD
END:VTIMEZONE
BEGIN:VEVENT
DTSTART;TZID=Europe/Paris:20250109T153000
DTEND;TZID=Europe/Paris:20250109T153000
DTSTAMP:20260420T225941
CREATED:20250107T140447Z
LAST-MODIFIED:20250107T144352Z
UID:7337-1736436600-1736436600@www.monoblet.fr
SUMMARY:Autour de la Santé par Lo Quinquet
DESCRIPTION:En janvier 2025\, l’association Lo Quinquet propose 3 dates autour de la santé :\n– le jeudi 9 Janvier de 15h30 à16h30 avec Anne Bellanger à l’Auberge. Inscription au 06 46 65 36 13\, 10 euros.\n– le samedi 18 Janvier de 9h30 à 13h30 avec Karine Delaumône et Anne Bellanger à l’Auberge. Inscription au 06 46 65 36 13\, 45 euros.\n-le jeudi 23 Janvier de 18h à 19h30 avec Fanny Ait Larbi à l’Auberge. Inscriptions au 06 62 36 06 99\, 5 euros.
URL:https://www.monoblet.fr/event/autour-de-la-sante-par-lo-quinquet/
CATEGORIES:Animation
END:VEVENT
BEGIN:VEVENT
DTSTART;TZID=Europe/Paris:20250125T103000
DTEND;TZID=Europe/Paris:20250125T103000
DTSTAMP:20260420T225941
CREATED:20231027T141709Z
LAST-MODIFIED:20241128T073215Z
UID:5022-1737801000-1737801000@www.monoblet.fr
SUMMARY:Cérémonie des vœux
DESCRIPTION:Ce samedi 18 janvier\, à partir de 10h30\, l’équipe municipale convient les Monoblétois\, et tout particulièrement les nouveaux habitants\, à célébrer l’année nouvelle dans la salle culturelle B. Meulien.
URL:https://www.monoblet.fr/event/ceremonie-des-voeux/
CATEGORIES:Animation,Mairie
END:VEVENT
BEGIN:VEVENT
DTSTART;TZID=Europe/Paris:20250131T203000
DTEND;TZID=Europe/Paris:20250131T203000
DTSTAMP:20260420T225941
CREATED:20250117T094004Z
LAST-MODIFIED:20250117T094004Z
UID:7386-1738355400-1738355400@www.monoblet.fr
SUMMARY:Concert Lo Quinquet
DESCRIPTION:L’association Lo Quinquet propose le “Concert des vieux z’O”\, le vendredi 31 janvier à 20h30 à l’Auberge\nEntrée à prix libre / Buvette sur place
URL:https://www.monoblet.fr/event/concert-lo-quinquet/
CATEGORIES:Animation,Spectacles
END:VEVENT
END:VCALENDAR