BEGIN:VCALENDAR
VERSION:2.0
PRODID:-//Monoblet - ECPv6.15.20//NONSGML v1.0//EN
CALSCALE:GREGORIAN
METHOD:PUBLISH
X-WR-CALNAME:Monoblet
X-ORIGINAL-URL:https://www.monoblet.fr
X-WR-CALDESC:Évènements pour Monoblet
REFRESH-INTERVAL;VALUE=DURATION:PT1H
X-Robots-Tag:noindex
X-PUBLISHED-TTL:PT1H
BEGIN:VTIMEZONE
TZID:Europe/Paris
BEGIN:DAYLIGHT
TZOFFSETFROM:+0100
TZOFFSETTO:+0200
TZNAME:CEST
DTSTART:20240331T010000
END:DAYLIGHT
BEGIN:STANDARD
TZOFFSETFROM:+0200
TZOFFSETTO:+0100
TZNAME:CET
DTSTART:20241027T010000
END:STANDARD
BEGIN:DAYLIGHT
TZOFFSETFROM:+0100
TZOFFSETTO:+0200
TZNAME:CEST
DTSTART:20250330T010000
END:DAYLIGHT
BEGIN:STANDARD
TZOFFSETFROM:+0200
TZOFFSETTO:+0100
TZNAME:CET
DTSTART:20251026T010000
END:STANDARD
BEGIN:DAYLIGHT
TZOFFSETFROM:+0100
TZOFFSETTO:+0200
TZNAME:CEST
DTSTART:20260329T010000
END:DAYLIGHT
BEGIN:STANDARD
TZOFFSETFROM:+0200
TZOFFSETTO:+0100
TZNAME:CET
DTSTART:20261025T010000
END:STANDARD
END:VTIMEZONE
BEGIN:VEVENT
DTSTART;TZID=Europe/Paris:20250329T093000
DTEND;TZID=Europe/Paris:20250329T093000
DTSTAMP:20260420T185356
CREATED:20250312T191022Z
LAST-MODIFIED:20250312T191022Z
UID:7691-1743240600-1743240600@www.monoblet.fr
SUMMARY:Atelier Santé Lo Quinquet
DESCRIPTION:Karine et Anne vous proposent\, le samedi 29 Mars de 9h30 à 13h30 à l’Auberge\, un stage santé accès sur la mémoire : atelier repas et conférence !\nInscriptions au 06 46 65 36 13 /45 € repas compris
URL:https://www.monoblet.fr/event/atelier-sante-lo-quinquet/
CATEGORIES:Animation,Stages
END:VEVENT
BEGIN:VEVENT
DTSTART;TZID=Europe/Paris:20250329T100000
DTEND;TZID=Europe/Paris:20250329T100000
DTSTAMP:20260420T185356
CREATED:20250311T174631Z
LAST-MODIFIED:20250311T174631Z
UID:7687-1743242400-1743242400@www.monoblet.fr
SUMMARY:Atelier Danse Lo Quinquet
DESCRIPTION:Lo Quinquet propose une deuxième journée d’Atelier de Mouvement avec Chiharu Mamiya le samedi 29 mars  dans la salle de motricité de l’école de 10 à 16h.\nSoupe offerte et picnic partagé. Tarif 50€\nRéservation obligatoire: 0685703537 / atelierdemouvement@gmail.com
URL:https://www.monoblet.fr/event/atelier-danse-lo-quinquet/
CATEGORIES:Animation
END:VEVENT
BEGIN:VEVENT
DTSTART;TZID=Europe/Paris:20250329T200000
DTEND;TZID=Europe/Paris:20250329T200000
DTSTAMP:20260420T185356
CREATED:20250204T101018Z
LAST-MODIFIED:20250318T125927Z
UID:7472-1743278400-1743278400@www.monoblet.fr
SUMMARY:Soirée concert pour Legmoin
DESCRIPTION:L’association pour Legmoin propose une soirée avec  les Skanky Mood From The Hills : un voyage dans la Jamaïque des années 60\, avec des reprises de grands classiques mais aussi des adaptations et des compositions qui vous feront danser toute la soirée pour fêter le printemps. Au programme Reggae\, Rocksteady et Ska !!\nPetite restauration et buvette dès 20h. La soirée est au chapeau (10€ souhaités)\n \n\n\n \n 
URL:https://www.monoblet.fr/event/soiree-concert-pour-legmoin/
CATEGORIES:Animation,Culture,Spectacles
END:VEVENT
END:VCALENDAR