BEGIN:VCALENDAR
VERSION:2.0
PRODID:-//Monoblet - ECPv6.15.20//NONSGML v1.0//EN
CALSCALE:GREGORIAN
METHOD:PUBLISH
X-ORIGINAL-URL:https://www.monoblet.fr
X-WR-CALDESC:Évènements pour Monoblet
REFRESH-INTERVAL;VALUE=DURATION:PT1H
X-Robots-Tag:noindex
X-PUBLISHED-TTL:PT1H
BEGIN:VTIMEZONE
TZID:Europe/Paris
BEGIN:DAYLIGHT
TZOFFSETFROM:+0100
TZOFFSETTO:+0200
TZNAME:CEST
DTSTART:20240331T010000
END:DAYLIGHT
BEGIN:STANDARD
TZOFFSETFROM:+0200
TZOFFSETTO:+0100
TZNAME:CET
DTSTART:20241027T010000
END:STANDARD
BEGIN:DAYLIGHT
TZOFFSETFROM:+0100
TZOFFSETTO:+0200
TZNAME:CEST
DTSTART:20250330T010000
END:DAYLIGHT
BEGIN:STANDARD
TZOFFSETFROM:+0200
TZOFFSETTO:+0100
TZNAME:CET
DTSTART:20251026T010000
END:STANDARD
BEGIN:DAYLIGHT
TZOFFSETFROM:+0100
TZOFFSETTO:+0200
TZNAME:CEST
DTSTART:20260329T010000
END:DAYLIGHT
BEGIN:STANDARD
TZOFFSETFROM:+0200
TZOFFSETTO:+0100
TZNAME:CET
DTSTART:20261025T010000
END:STANDARD
END:VTIMEZONE
BEGIN:VEVENT
DTSTART;VALUE=DATE:20250403
DTEND;VALUE=DATE:20250404
DTSTAMP:20260420T170251
CREATED:20241029T094101Z
LAST-MODIFIED:20250320T074448Z
UID:6990-1743638400-1743724799@www.monoblet.fr
SUMMARY:CROSS de l'école
DESCRIPTION:Autour de l’école et des espaces sportifs\, Cross 2025 de l’école avec l’association d’athlétisme ACNA
URL:https://www.monoblet.fr/event/cross-de-lecole-2/
CATEGORIES:Animation
END:VEVENT
BEGIN:VEVENT
DTSTART;VALUE=DATE:20250405
DTEND;VALUE=DATE:20250406
DTSTAMP:20260420T170251
CREATED:20241118T084614Z
LAST-MODIFIED:20250324T083603Z
UID:7063-1743811200-1743897599@www.monoblet.fr
SUMMARY:CARNAVAL de l'ECOLE
DESCRIPTION:L’école et l’APE organisent le traditionnel carnaval (thème du sport) ! Rdv dès 14h30\, à l’ancienne école pour habillage et maquillage\, puis goûter à 15h30\, et défilé à 16h. Le jugement du Pétassou est prévu à 17h\, puis Fiesta !
URL:https://www.monoblet.fr/event/carnaval-de-lecole-2/
CATEGORIES:Animation,Culture
END:VEVENT
BEGIN:VEVENT
DTSTART;TZID=Europe/Paris:20250423T090000
DTEND;TZID=Europe/Paris:20250427T173000
DTSTAMP:20260420T170251
CREATED:20241107T134801Z
LAST-MODIFIED:20250427T190700Z
UID:7031-1745398800-1745775000@www.monoblet.fr
SUMMARY:Stage de sculpture en bronze
DESCRIPTION:L’association Lo Quinquet\, avec Laure Fournier\, organise un stage de sculpture en bronze avec la technique de la cire perdue\, animé par Kossy Traoré. Renseignement et inscription au 09 72 95 85 88/ loquinquet@gmail.com
URL:https://www.monoblet.fr/event/stage-de-sculpture-en-bronze-4/
CATEGORIES:Animation,Culture,Stages
END:VEVENT
BEGIN:VEVENT
DTSTART;TZID=Europe/Paris:20250426T190000
DTEND;TZID=Europe/Paris:20250426T190000
DTSTAMP:20260420T170251
CREATED:20240920T083512Z
LAST-MODIFIED:20250316T154133Z
UID:6715-1745694000-1745694000@www.monoblet.fr
SUMMARY:Soirée Monomaniax
DESCRIPTION:Dès 20h dans la salle culturelle B. Meulien\, l’association Monomaniax reçoit l’ensemble “D’une rive à l’autre”\, chœur et orchestre de musique algérienne en Cévennes. www.dunerive.fr\nEntrée prix libre / réservations : contact@monomaniax.fr
URL:https://www.monoblet.fr/event/soiree-monomaniax-3/
CATEGORIES:Animation,Culture,Spectacles
END:VEVENT
END:VCALENDAR