BEGIN:VCALENDAR
VERSION:2.0
PRODID:-//Monoblet - ECPv6.15.20//NONSGML v1.0//EN
CALSCALE:GREGORIAN
METHOD:PUBLISH
X-WR-CALNAME:Monoblet
X-ORIGINAL-URL:https://www.monoblet.fr
X-WR-CALDESC:Évènements pour Monoblet
REFRESH-INTERVAL;VALUE=DURATION:PT1H
X-Robots-Tag:noindex
X-PUBLISHED-TTL:PT1H
BEGIN:VTIMEZONE
TZID:Europe/Paris
BEGIN:DAYLIGHT
TZOFFSETFROM:+0100
TZOFFSETTO:+0200
TZNAME:CEST
DTSTART:20240331T010000
END:DAYLIGHT
BEGIN:STANDARD
TZOFFSETFROM:+0200
TZOFFSETTO:+0100
TZNAME:CET
DTSTART:20241027T010000
END:STANDARD
BEGIN:DAYLIGHT
TZOFFSETFROM:+0100
TZOFFSETTO:+0200
TZNAME:CEST
DTSTART:20250330T010000
END:DAYLIGHT
BEGIN:STANDARD
TZOFFSETFROM:+0200
TZOFFSETTO:+0100
TZNAME:CET
DTSTART:20251026T010000
END:STANDARD
BEGIN:DAYLIGHT
TZOFFSETFROM:+0100
TZOFFSETTO:+0200
TZNAME:CEST
DTSTART:20260329T010000
END:DAYLIGHT
BEGIN:STANDARD
TZOFFSETFROM:+0200
TZOFFSETTO:+0100
TZNAME:CET
DTSTART:20261025T010000
END:STANDARD
END:VTIMEZONE
BEGIN:VEVENT
DTSTART;TZID=Europe/Paris:20251214T180000
DTEND;TZID=Europe/Paris:20251214T180000
DTSTAMP:20260425T134842
CREATED:20240301T095607Z
LAST-MODIFIED:20251130T141611Z
UID:5673-1765735200-1765735200@www.monoblet.fr
SUMMARY:Soirée Cinéma Palestine
DESCRIPTION:Dans le cadre de “Automne Palestinien en Cévennes”\, l’association Épices et Parfums et l”Association France Palestine Solidarité proposent une soirée dans la salle culturelle B. Meulien dès 18 heures pour la projection du documentaire “Put your soul on your hand and walk” de Sepideh Farsi\, Fatem Hassona (interrompue lors de la séance du 27 novembre) \n \n\n\n\n  \n  \n  \n  \n  \n  \n  \n  \n  \n  \n  \n  \n 
URL:https://www.monoblet.fr/event/soiree-cinema/
CATEGORIES:Cinéma
END:VEVENT
END:VCALENDAR