BEGIN:VCALENDAR
VERSION:2.0
PRODID:-//Monoblet - ECPv6.15.20//NONSGML v1.0//EN
CALSCALE:GREGORIAN
METHOD:PUBLISH
X-ORIGINAL-URL:https://www.monoblet.fr
X-WR-CALDESC:Évènements pour Monoblet
REFRESH-INTERVAL;VALUE=DURATION:PT1H
X-Robots-Tag:noindex
X-PUBLISHED-TTL:PT1H
BEGIN:VTIMEZONE
TZID:Europe/Paris
BEGIN:DAYLIGHT
TZOFFSETFROM:+0100
TZOFFSETTO:+0200
TZNAME:CEST
DTSTART:20250330T010000
END:DAYLIGHT
BEGIN:STANDARD
TZOFFSETFROM:+0200
TZOFFSETTO:+0100
TZNAME:CET
DTSTART:20251026T010000
END:STANDARD
BEGIN:DAYLIGHT
TZOFFSETFROM:+0100
TZOFFSETTO:+0200
TZNAME:CEST
DTSTART:20260329T010000
END:DAYLIGHT
BEGIN:STANDARD
TZOFFSETFROM:+0200
TZOFFSETTO:+0100
TZNAME:CET
DTSTART:20261025T010000
END:STANDARD
BEGIN:DAYLIGHT
TZOFFSETFROM:+0100
TZOFFSETTO:+0200
TZNAME:CEST
DTSTART:20270328T010000
END:DAYLIGHT
BEGIN:STANDARD
TZOFFSETFROM:+0200
TZOFFSETTO:+0100
TZNAME:CET
DTSTART:20271031T010000
END:STANDARD
END:VTIMEZONE
BEGIN:VEVENT
DTSTART;TZID=Europe/Paris:20260419T090000
DTEND;TZID=Europe/Paris:20260419T090000
DTSTAMP:20260420T131120
CREATED:20220405T135556Z
LAST-MODIFIED:20260417T085059Z
UID:2259-1776589200-1776589200@www.monoblet.fr
SUMMARY:Randonnée VTT et pédestre
DESCRIPTION:L’association Mam’out Sport organise une journée sportive (courses pédestre et VTT) autour de Durfort et Monoblet. \n 
URL:https://www.monoblet.fr/event/sur-les-traces-du-mamout/
CATEGORIES:Animation
END:VEVENT
BEGIN:VEVENT
DTSTART;VALUE=DATE:20260419
DTEND;VALUE=DATE:20260420
DTSTAMP:20260420T131120
CREATED:20220503T121046Z
LAST-MODIFIED:20260408T125036Z
UID:2373-1776556800-1776643199@www.monoblet.fr
SUMMARY:Atelier d'écriture
DESCRIPTION:Le dimanche 19 avril de 9 heures 30 à 17 heures\, Lo Quinquet propose un atelier d’écriture à l’Auberge\, animé par Sylvie Rousseau (06 22 34 24 85) PAF 17€ / repas partagé
URL:https://www.monoblet.fr/event/atelier-decriture/
CATEGORIES:Culture
END:VEVENT
BEGIN:VEVENT
DTSTART;VALUE=DATE:20260419
DTEND;VALUE=DATE:20260420
DTSTAMP:20260420T131120
CREATED:20241016T162720Z
LAST-MODIFIED:20260320T145420Z
UID:6870-1776556800-1776643199@www.monoblet.fr
SUMMARY:Randonnée Caminar
DESCRIPTION:Journée Randonnée\nL’association Caminar vous donne rendez-vous parking du Temple. Prévoir Pique-nique\, eau et matériel adapté.\nCovoiturage participatif. Peut être annulé selon météo.\n​Info  06 45 58 91 18 \n 
URL:https://www.monoblet.fr/event/randonnee-caminar-a-partir-de-puechabon-des-9h/
CATEGORIES:Animation
END:VEVENT
BEGIN:VEVENT
DTSTART;TZID=Europe/Paris:20260418T100000
DTEND;TZID=Europe/Paris:20260418T100000
DTSTAMP:20260420T131120
CREATED:20250401T163111Z
LAST-MODIFIED:20260408T124922Z
UID:7806-1776506400-1776506400@www.monoblet.fr
SUMMARY:Cours cuisine Lo Quinquet
DESCRIPTION:Le samedi 18 avril\,  Lo Quinquet propose un atelier de cuisine japonaise – Onigirazu –  avec Satomi de 10h à 12h. Sur inscription\, merci de contacter directement le 06 52 92 88 87 PAF 30€ \n \n 
URL:https://www.monoblet.fr/event/cours-cuisine-lo-quinquet/
CATEGORIES:Animation
END:VEVENT
BEGIN:VEVENT
DTSTART;VALUE=DATE:20260418
DTEND;VALUE=DATE:20260420
DTSTAMP:20260420T131120
CREATED:20211204T161007Z
LAST-MODIFIED:20260409T074632Z
UID:1755-1776470400-1776643199@www.monoblet.fr
SUMMARY:L'USMonoblet reçoit
DESCRIPTION:Sur le stade municipal\, samedi 18 avril à 10h30\, les U12/U13 de l’USMonoblet reçoivent l’entente Vezenobres-Cruv.\, et à 15 h\, les U18 féminines Vergèze EP.\nLe dimanche 19\,  l’équipe senior 2 affronte St Hippolyte du Fort\, l’équipe première le CA Bessegeois à 15h\, et les féminines senior le All Five Academieafa à 17h.
URL:https://www.monoblet.fr/event/lusmonoblet-recoit-10/
CATEGORIES:Football
END:VEVENT
BEGIN:VEVENT
DTSTART;TZID=Europe/Paris:20260416T203000
DTEND;TZID=Europe/Paris:20260416T203000
DTSTAMP:20260420T131120
CREATED:20240830T132906Z
LAST-MODIFIED:20260402T114524Z
UID:6579-1776371400-1776371400@www.monoblet.fr
SUMMARY:Écho des Arts
DESCRIPTION:Salle B. Meulien\, à 20h30\, l’association Écho des Arts reçoit “Appaloosa”: du bluegrass traditionnel aux compositions de Neil Young\, il est un chemin qu’Appaloosa dessine. Leur route fait dialoguer violon\, banjo et mandoline\, guidée par une voix féminine entourée de chœurs. Enracinée dans des couleurs chaudes et des sons boisés\, la musique d’Appaloosa est une plongée dans le répertoire folk américain.\nRenseignement et Réservation : https://www.facebook.com/SpectaclesMonoblet/\nAdresse mail: echodesarts.monoblet@gmail.com Téléphone: 04 66 78 60 39
URL:https://www.monoblet.fr/event/echo-des-arts-46/
CATEGORIES:Culture,Spectacles
END:VEVENT
BEGIN:VEVENT
DTSTART;TZID=Europe/Paris:20260415T200000
DTEND;TZID=Europe/Paris:20260415T200000
DTSTAMP:20260420T131120
CREATED:20231024T150427Z
LAST-MODIFIED:20260409T074100Z
UID:5005-1776283200-1776283200@www.monoblet.fr
SUMMARY:L'USMonoblet reçoit
DESCRIPTION:Sur le stade municipal\, ce mercredi 15 avril à 20h\, en Coupe Vigier Senior\, l’USMonoblet reçoit All Five Academie Afa
URL:https://www.monoblet.fr/event/lusmonoblet-recoit-102/
CATEGORIES:Football
END:VEVENT
BEGIN:VEVENT
DTSTART;TZID=Europe/Paris:20260415T103000
DTEND;TZID=Europe/Paris:20260415T103000
DTSTAMP:20260420T131120
CREATED:20230422T075832Z
LAST-MODIFIED:20260407T083809Z
UID:4052-1776249000-1776249000@www.monoblet.fr
SUMMARY:Atelier Numérique gratuit CCPC
DESCRIPTION:La Communauté de Communes du Piémont Cévenol propose des ateliers “numériques” mensuels (gratuits)  sur les communes du territoire. A Monoblet\, le mercredi 15 avril de 10h30 à 12h\, dans les locaux de la mairie 73 rue Max Olivier Lacamp\, le thème est “Maitrise le centre de contrôle du smartphone”. Inscriptions au 0787049297
URL:https://www.monoblet.fr/event/atelier-numerique-gratuit-ccpc/
CATEGORIES:Animation
END:VEVENT
BEGIN:VEVENT
DTSTART;TZID=Europe/Paris:20260409T133000
DTEND;TZID=Europe/Paris:20260409T133000
DTSTAMP:20260420T131120
CREATED:20241016T164215Z
LAST-MODIFIED:20260320T143903Z
UID:6887-1775741400-1775741400@www.monoblet.fr
SUMMARY:Petite Randonnée Aïsounet 
DESCRIPTION:L’association Caminar vous donne rendez-vous parking du Temple\, départ à 13h30 pour une petite randonnée Aïsounet. Prévoir eau et matériel de randonnée adapté à la météo et à la saison.\nCovoiturage participatif depuis Monoblet. Peut être annulé en cas de mauvais temps.info : 06 45 58 91 18
URL:https://www.monoblet.fr/event/petite-randonnee-aisounet-2/
CATEGORIES:Animation
END:VEVENT
BEGIN:VEVENT
DTSTART;TZID=Europe/Paris:20260406T190000
DTEND;TZID=Europe/Paris:20260406T190000
DTSTAMP:20260420T131120
CREATED:20230102T152511Z
LAST-MODIFIED:20260402T154858Z
UID:3513-1775502000-1775502000@www.monoblet.fr
SUMMARY:Danse trad à Monoblet
DESCRIPTION:L’association Lo Quinquet propose un rdv tous les 1ers lundis du mois de 19 à 21h.  Les ateliers sont toujours animés par des musiciens. Ils se déroulent 2 parties : la 1ere heure est dédiée à l’apprentissage des pas de danse\,la seconde heure est un bal.\nSoyez les bienvenus à la salle de motricité de Monoblet\, même débutants ! Prix libre et conscient. ​Pour contacter Cécile : 06 86 03 81 26 \n\n\n\n\n\n 
URL:https://www.monoblet.fr/event/ca-mdit-trad/
CATEGORIES:Animation,Culture,Stages
END:VEVENT
BEGIN:VEVENT
DTSTART;VALUE=DATE:20260403
DTEND;VALUE=DATE:20260413
DTSTAMP:20260420T131120
CREATED:20231121T134848Z
LAST-MODIFIED:20260325T195512Z
UID:5162-1775174400-1776038399@www.monoblet.fr
SUMMARY:Salon de peinture et sculpture
DESCRIPTION:Martine Woellet et la galerie Art Fresque Povera Diffusion présentent le travail de plusieurs artistes peintres et sculpteurs\, dans la salle culturelle B. Meulien. Une tombola est organisée à l’occasion de cette exposition : les lots à gagner sont des œuvres d’art offertes par chaque artiste. Date vernissage à venir\n \n 
URL:https://www.monoblet.fr/event/salon-de-peinture-et-sculpture/
CATEGORIES:Animation,Culture
END:VEVENT
BEGIN:VEVENT
DTSTART;TZID=Europe/Paris:20260402T203000
DTEND;TZID=Europe/Paris:20260402T203000
DTSTAMP:20260420T131120
CREATED:20231130T144039Z
LAST-MODIFIED:20260326T080329Z
UID:5237-1775161800-1775161800@www.monoblet.fr
SUMMARY:Concert musique colombienne-jazz
DESCRIPTION:Dans la salle culturelle B. Meulien\, le jeudi 2 avril\, l’association L’Horizon des Événements  reçoit\, pour un concert de musique colombienne-jazz\, le groupe ¡Ya Voy! Un harmonieux mélange d’héritage culturel\, de traditions orales\, chantées et dansées et d’un jazz contemporain. Ya Voy ! repousse les frontières musicales et conduit à une musique libre et métissée. La rencontre d’Alejandra Charry\, Sakina Abdou\, Moises Zamora Mesú et Thibault Cellier promet un quartet poétique\, joyeux et engagé.\nPrix libre
URL:https://www.monoblet.fr/event/concert-jazz/
CATEGORIES:Culture,Spectacles
END:VEVENT
BEGIN:VEVENT
DTSTART;TZID=Europe/Paris:20260331T180000
DTEND;TZID=Europe/Paris:20260331T180000
DTSTAMP:20260420T131120
CREATED:20260326T105434Z
LAST-MODIFIED:20260326T105558Z
UID:9541-1774980000-1774980000@www.monoblet.fr
SUMMARY:Conseil Municipal du 31 mars 2026
DESCRIPTION:Le conseil municipal se réunira le 31 mars à 18h\, salle de la mairie. Ordre du jour
URL:https://www.monoblet.fr/event/conseil-municipal-du-31-mars-2026/
CATEGORIES:Mairie
END:VEVENT
BEGIN:VEVENT
DTSTART;VALUE=DATE:20260328
DTEND;VALUE=DATE:20260330
DTSTAMP:20260420T131120
CREATED:20211204T160605Z
LAST-MODIFIED:20260322T095820Z
UID:1751-1774656000-1774828799@www.monoblet.fr
SUMMARY:L'USMonoblet reçoit
DESCRIPTION:Sur le stade municipal\, le samedi 28 mars les U18 féminines de l’USMonoblet reçoivent Jacou-Clapiers FA à 15h et le U17 jouent leur match de coupe Gard-Lozère à 17h.\nLe dimanche 29 mars à 10h\, les U15 reçoivent St Christol lez Alès\, et l’équipe première Sumène ES à 15h.\nDétails sur le site du district
URL:https://www.monoblet.fr/event/lusmonoblet-recoit-9/
CATEGORIES:Football
END:VEVENT
BEGIN:VEVENT
DTSTART;VALUE=DATE:20260328
DTEND;VALUE=DATE:20260329
DTSTAMP:20260420T131120
CREATED:20231117T124116Z
LAST-MODIFIED:20260319T135851Z
UID:5114-1774656000-1774742399@www.monoblet.fr
SUMMARY:CARNAVAL de l’ÉCOLE
DESCRIPTION:L’école et l’APE organisent le traditionnel carnaval. Le thème de cette année : Le voyage\n15h Maquillage\n16h Départ de la Parade\n18h Jugement du Pétassou\n19h Buvette/ Repas du Monde\n \n \n 
URL:https://www.monoblet.fr/event/carnaval-2/
CATEGORIES:Animation,Culture
END:VEVENT
BEGIN:VEVENT
DTSTART;VALUE=DATE:20260327
DTEND;VALUE=DATE:20260328
DTSTAMP:20260420T131120
CREATED:20231025T094804Z
LAST-MODIFIED:20260311T075347Z
UID:5007-1774569600-1774655999@www.monoblet.fr
SUMMARY:CROSS de l'école
DESCRIPTION:Autour de l’école et des espaces sportifs\, dans l’après midi\, est organisé le cross 2026 de l’école avec l’association d’athlétisme ACNA. \n \n 
URL:https://www.monoblet.fr/event/cross-de-lecole/
CATEGORIES:Animation
END:VEVENT
BEGIN:VEVENT
DTSTART;TZID=Europe/Paris:20260326T133000
DTEND;TZID=Europe/Paris:20260326T133000
DTSTAMP:20260420T131120
CREATED:20241016T163955Z
LAST-MODIFIED:20260320T103257Z
UID:6883-1774531800-1774531800@www.monoblet.fr
SUMMARY:Caminar sortie du jeudi
DESCRIPTION:L’association Caminar vous donne rendez-vous parking du Temple\, départ à 13h30 pour une petite randonnée Aïsounet. Prévoir eau et matériel de randonnée adapté à la météo et à la saison.\nCovoiturage participatif depuis Monoblet. Peut être annulé en cas de mauvais temps.info : 06 45 58 91 18 \n             \n 
URL:https://www.monoblet.fr/event/petite-randonnee-aisounet/
CATEGORIES:Animation
END:VEVENT
BEGIN:VEVENT
DTSTART;TZID=Europe/Paris:20260325T180000
DTEND;TZID=Europe/Paris:20260325T180000
DTSTAMP:20260420T131120
CREATED:20251002T132334Z
LAST-MODIFIED:20260320T142822Z
UID:7339-1774461600-1774461600@www.monoblet.fr
SUMMARY:Le Café "à propos" Lo Quinquet
DESCRIPTION:Le mercredi 25 mars de 18 à 20h\, à l’auberge de Lo Quinquet\, un “café à propos” : un moment pour mieux se connaître\, pour échanger (le thème pour la fois suivante est choisi ensemble)… et pour finir\, musique !\nPremière rencontre autour de “Les chiens font pas les chats” \n \n  \n 
URL:https://www.monoblet.fr/event/autour-de-la-sante-par-lo-quinquet-2/
CATEGORIES:Animation
END:VEVENT
BEGIN:VEVENT
DTSTART;VALUE=DATE:20260322
DTEND;VALUE=DATE:20260323
DTSTAMP:20260420T131120
CREATED:20211204T155606Z
LAST-MODIFIED:20260319T140934Z
UID:1743-1774137600-1774223999@www.monoblet.fr
SUMMARY:L'USMonoblet reçoit
DESCRIPTION:Sur le stade municipal\, le dimanche 22 mars\, l’équipe des U15 de l’USMonoblet  reçoit l’entente FC Val de Cèze à 10h\, puis à 12h\, l’équipe des seniors 2 affronte l’entente Vézenobres-Cruviers et l’équipe première Fourques O à 15h. Enfin à 17h\, en coupe André Vigier\, les seniors reçoivent All Five Academie.
URL:https://www.monoblet.fr/event/lusmonoblet-recoit-8/
CATEGORIES:Football
END:VEVENT
BEGIN:VEVENT
DTSTART;VALUE=DATE:20260322
DTEND;VALUE=DATE:20260323
DTSTAMP:20260420T131120
CREATED:20241016T164338Z
LAST-MODIFIED:20260320T103445Z
UID:6889-1774137600-1774223999@www.monoblet.fr
SUMMARY:Journée  Caminar 
DESCRIPTION:Journée Randonnée\nL’association Caminar vous donne rendez-vous parking du Temple. Prévoir Pique-nique\, eau et matériel adapté.\nCovoiturage participatif. Peut être annulé selon météo.\n​Info  06 45 58 91 18
URL:https://www.monoblet.fr/event/randonnee-caminar-3/
CATEGORIES:Animation
END:VEVENT
BEGIN:VEVENT
DTSTART;TZID=Europe/Paris:20260321T170000
DTEND;TZID=Europe/Paris:20260321T170000
DTSTAMP:20260420T131120
CREATED:20250206T151150Z
LAST-MODIFIED:20260310T082834Z
UID:7486-1774112400-1774112400@www.monoblet.fr
SUMMARY:Loto de l'USMonoblet
DESCRIPTION:L’USMonoblet propose un loto le samedi 21 mars à 17 heures dans la salle culturelle. Nombreux lots et surprises ! Buvette et petite restauration sur place \n \n 
URL:https://www.monoblet.fr/event/loto-de-lusmonoblet-6/
CATEGORIES:Football,Loto
END:VEVENT
BEGIN:VEVENT
DTSTART;TZID=Europe/Paris:20260321T110000
DTEND;TZID=Europe/Paris:20260321T110000
DTSTAMP:20260420T131120
CREATED:20220620T170006Z
LAST-MODIFIED:20260317T143359Z
UID:2594-1774090800-1774090800@www.monoblet.fr
SUMMARY:Conseil Municipal
DESCRIPTION:Le conseil municipal se réunira \, dans la salle du conseil\, le samedi 21 mars à 11h. Ordre du jour \n 
URL:https://www.monoblet.fr/event/conseil-municipal-5/
CATEGORIES:Mairie
END:VEVENT
BEGIN:VEVENT
DTSTART;VALUE=DATE:20260315
DTEND;VALUE=DATE:20260316
DTSTAMP:20260420T131120
CREATED:20251117T151146Z
LAST-MODIFIED:20251117T151336Z
UID:6224-1773532800-1773619199@www.monoblet.fr
SUMMARY:ÉLECTIONS MUNICIPALES 1er tour
DESCRIPTION:Les élections municipales se tiendront dans la nouvelle mairie 73 Rue Max Oliiver Lacamp. Attention! Les modalités de vote pour les communes de moins de 1000 habitants changent !
URL:https://www.monoblet.fr/event/elections-municipales-1er-tour/
CATEGORIES:Mairie
END:VEVENT
BEGIN:VEVENT
DTSTART;VALUE=DATE:20260315
DTEND;VALUE=DATE:20260316
DTSTAMP:20260420T131120
CREATED:20220927T085237Z
LAST-MODIFIED:20260309T134536Z
UID:3036-1773532800-1773619199@www.monoblet.fr
SUMMARY:Concours TREC à cheval
DESCRIPTION:Le dimanche 15 mars\, le centre équestre Les Écuries de Lou propose un concours de TREC. Des cavaliers compétiteurs viennent de tout le département et randonnent toute la journée sur l’ensemble de la commune. Renseignements : Édith Bonnard 06 19 72 79 42\nBuvette et restauration sur place
URL:https://www.monoblet.fr/event/concours-trec-a-cheval/
CATEGORIES:Animation,Stages
END:VEVENT
BEGIN:VEVENT
DTSTART;VALUE=DATE:20260314
DTEND;VALUE=DATE:20260316
DTSTAMP:20260420T131120
CREATED:20211204T153559Z
LAST-MODIFIED:20260311T195247Z
UID:1725-1773446400-1773619199@www.monoblet.fr
SUMMARY:L'USMonoblet reçoit
DESCRIPTION:Sur le stade municipal\, le samedi 14 mars à 10h30 les U13/U12 de l’USMonoblet  affrontent FC Val de Cèze\, puis à 15h30\, l’équipe des U18 féminines  reçoit F.U. Narbonne. Le Dimanche 15 mars à 10h\, les U17 affrontent Aimargues Cabassut\, et à 15h les seniors féminines à 11  Salindres FC.
URL:https://www.monoblet.fr/event/lusmonoblet-recoit-7/
CATEGORIES:Football
END:VEVENT
BEGIN:VEVENT
DTSTART;TZID=Europe/Paris:20260312T203000
DTEND;TZID=Europe/Paris:20260312T203000
DTSTAMP:20260420T131120
CREATED:20241120T152618Z
LAST-MODIFIED:20260303T175025Z
UID:7091-1773347400-1773347400@www.monoblet.fr
SUMMARY:Écho des Arts
DESCRIPTION:Dans la salle B. Meulien\, à 20h30\, l’association Écho des Arts reçoit Mystère Camillo\, du rap cévenol dans tous ses états\, livré en circuit « ultra-court » par un artiste monoblétois. Mystère Camillo\, artiste Rap\, collabore régulièrement avec d’autres musiciens monoblétois tels que Adrien M Beat-maker Astromaker\, concepteur de musique électronique\, Tolten\, slameur\, …\nRenseignement et Réservation : https://www.facebook.com/SpectaclesMonoblet/\nAdresse mail: echodesarts.monoblet@gmail.com Téléphone: 04 66 78 60 39
URL:https://www.monoblet.fr/event/echo-des-arts-52/
CATEGORIES:Culture,Spectacles
END:VEVENT
BEGIN:VEVENT
DTSTART;VALUE=DATE:20260308
DTEND;VALUE=DATE:20260309
DTSTAMP:20260420T131120
CREATED:20211204T153413Z
LAST-MODIFIED:20260307T140008Z
UID:1720-1772928000-1773014399@www.monoblet.fr
SUMMARY:L'USMonoblet - Matchs reportés
DESCRIPTION:Arrêté d’interdiction du stade pelousé = matchs reportés : le dimanche 8 mars\, l’équipe des U15 de l’USMonoblet affronte St Christol les Alès à 10h\, et les féminines  senior à 11 jouent contre All Five Academeiafa à 12h. Détails sur le site du district
URL:https://www.monoblet.fr/event/lusmonoblet-recoit-6/
CATEGORIES:Football
END:VEVENT
BEGIN:VEVENT
DTSTART;TZID=Europe/Paris:20260228T203000
DTEND;TZID=Europe/Paris:20260228T203000
DTSTAMP:20260420T131120
CREATED:20241205T103835Z
LAST-MODIFIED:20260201T191144Z
UID:7206-1772310600-1772310600@www.monoblet.fr
SUMMARY:Écho des Arts
DESCRIPTION:Salle B. Meulien\, à 20h30 le samedi 28 février\, l’association Écho des Arts reçoit « Je l’aime moi non plus »\, un spectacle musical autour de l’univers amoureux et poétique de Serge Gainsbourg. Trois couples sont mis en scène et interprétés par six chanteurs-musiciens. Porte des Lilas\, ils montent à bord\, la sonnerie retentit. Ils nous embarquent dans des chassés-croisés fougueux\, tendres\, loufoques\, … qui réenchantent la poésie de Gainsbourg.\nRenseignement et Réservation : https://www.facebook.com/SpectaclesMonoblet/\nAdresse mail: echodesarts.monoblet@gmail.com Téléphone: 04 66 78 60 39 \n \n 
URL:https://www.monoblet.fr/event/echo-des-arts-54/
CATEGORIES:Culture,Spectacles
END:VEVENT
BEGIN:VEVENT
DTSTART;TZID=Europe/Paris:20260226T133000
DTEND;TZID=Europe/Paris:20260226T133000
DTSTAMP:20260420T131120
CREATED:20241016T163401Z
LAST-MODIFIED:20260125T175258Z
UID:6878-1772112600-1772112600@www.monoblet.fr
SUMMARY:Petite Randonnée Aïsounet 
DESCRIPTION:L’association Caminar vous donne rendez-vous parking du Temple\, départ à 13h30 pour une petite randonnée Aïsounet. Prévoir eau et matériel de randonnée adapté à la météo et à la saison.\nCovoiturage participatif depuis Monoblet. Peut être annulé en cas de mauvais temps.info : 06 45 58 91 18
URL:https://www.monoblet.fr/event/petite-randonnee-aisounet-a-13h30/
CATEGORIES:Animation
END:VEVENT
BEGIN:VEVENT
DTSTART;VALUE=DATE:20260223
DTEND;VALUE=DATE:20260228
DTSTAMP:20260420T131120
CREATED:20241028T104937Z
LAST-MODIFIED:20260129T093938Z
UID:6959-1771804800-1772236799@www.monoblet.fr
SUMMARY:Stage Cirque enfants
DESCRIPTION:Du 23 au 27 février\, dans la salle culturelle B. Meulien\, les associations Lo Quinquet et Extra Show proposent un stage de cirque pour enfants avec Marion  – Inscription obligatoire à loquinquet@gmail.com / 0686722788 \n \n 
URL:https://www.monoblet.fr/event/stage-cirque-enfants-2/
CATEGORIES:Animation,Stages
END:VEVENT
END:VCALENDAR