BEGIN:VCALENDAR
VERSION:2.0
PRODID:-//Monoblet - ECPv6.15.20//NONSGML v1.0//EN
CALSCALE:GREGORIAN
METHOD:PUBLISH
X-WR-CALNAME:Monoblet
X-ORIGINAL-URL:https://www.monoblet.fr
X-WR-CALDESC:Évènements pour Monoblet
REFRESH-INTERVAL;VALUE=DURATION:PT1H
X-Robots-Tag:noindex
X-PUBLISHED-TTL:PT1H
BEGIN:VTIMEZONE
TZID:Europe/Paris
BEGIN:DAYLIGHT
TZOFFSETFROM:+0100
TZOFFSETTO:+0200
TZNAME:CEST
DTSTART:20250330T010000
END:DAYLIGHT
BEGIN:STANDARD
TZOFFSETFROM:+0200
TZOFFSETTO:+0100
TZNAME:CET
DTSTART:20251026T010000
END:STANDARD
BEGIN:DAYLIGHT
TZOFFSETFROM:+0100
TZOFFSETTO:+0200
TZNAME:CEST
DTSTART:20260329T010000
END:DAYLIGHT
BEGIN:STANDARD
TZOFFSETFROM:+0200
TZOFFSETTO:+0100
TZNAME:CET
DTSTART:20261025T010000
END:STANDARD
BEGIN:DAYLIGHT
TZOFFSETFROM:+0100
TZOFFSETTO:+0200
TZNAME:CEST
DTSTART:20270328T010000
END:DAYLIGHT
BEGIN:STANDARD
TZOFFSETFROM:+0200
TZOFFSETTO:+0100
TZNAME:CET
DTSTART:20271031T010000
END:STANDARD
END:VTIMEZONE
BEGIN:VEVENT
DTSTART;VALUE=DATE:20260510
DTEND;VALUE=DATE:20260511
DTSTAMP:20260420T130839
CREATED:20220112T173151Z
LAST-MODIFIED:20251123T094407Z
UID:1920-1778371200-1778457599@www.monoblet.fr
SUMMARY:L'USMonoblet reçoit
DESCRIPTION:Sur le stade municipal\, le dimanche 10 mai à 10h \, les U17 de l’USMonoblet reçoivent St Gille AEC\, puis à 12h les seniors de l’équipe 2 affrontent FC Vatan\, et l’équipe première FC Val de Cèze à 15h. 
URL:https://www.monoblet.fr/event/lusmonoblet-recoit-13/
CATEGORIES:Football
END:VEVENT
BEGIN:VEVENT
DTSTART;VALUE=DATE:20260513
DTEND;VALUE=DATE:20260518
DTSTAMP:20260420T130839
CREATED:20240308T143140Z
LAST-MODIFIED:20260413T081930Z
UID:5722-1778630400-1779062399@www.monoblet.fr
SUMMARY:Stage de sculpture en bronze
DESCRIPTION:Du mercredi 13 au dimanche 17 mail\, dans la cour de l’ancienne école\, l’association Lo Quinquet organise un stage de sculpture en bronze avec la technique de la cire perdue\, animé par Kossy Traoré. Renseignement et inscription au 09 72 95 85 88/ loquinquet@gmail.com. Durant 5 jours\, vous découvrirez la technique ancestrale du bronze à la cire perdue :\n– Création de votre œuvre en cire d’abeilles\n– application du moule autour de votre pièce \n– décirage des moules \n– fabrication collective du four\n– puis coulée du bronze en fusion dans les moules évidés\n– et enfin\, nettoyage/polissage des sculptures en bronze.\nArtiste confirmé\, créateur amateur ou simple curieux\, soyez les bienvenus! \nCe stage est ouvert à tous et se déroule toujours dans la joie et la convivialité! \nVieux objets en laiton\, type robinets ou objets chromés sont bienvenus \n \n 
URL:https://www.monoblet.fr/event/stage-de-sculpture-en-bronze-3/
CATEGORIES:Animation,Culture
END:VEVENT
BEGIN:VEVENT
DTSTART;TZID=Europe/Paris:20260516T170000
DTEND;TZID=Europe/Paris:20260516T170000
DTSTAMP:20260420T130839
CREATED:20211202T104133Z
LAST-MODIFIED:20260415T085406Z
UID:1611-1778950800-1778950800@www.monoblet.fr
SUMMARY:Belote de l'USMonoblet
DESCRIPTION:Le samedi 16 mai\, l’ association de l’USM propose un concours de belote dans la salle de motricité de l’école à partir de 17h. Buvette et petite restauration sur place.
URL:https://www.monoblet.fr/event/la-connerie-est-une-energie-renouvelable/
CATEGORIES:Animation
END:VEVENT
BEGIN:VEVENT
DTSTART;VALUE=DATE:20260517
DTEND;VALUE=DATE:20260518
DTSTAMP:20260420T130839
CREATED:20241016T164615Z
LAST-MODIFIED:20260320T145814Z
UID:6893-1778976000-1779062399@www.monoblet.fr
SUMMARY:Randonnée Caminar 
DESCRIPTION:Journée Randonnée\nL’association Caminar vous donne rendez-vous parking du Temple. Prévoir Pique-nique\, eau et matériel adapté.\nCovoiturage participatif. Peut être annulé selon météo.\n​Info  06 45 58 91 18 \n 
URL:https://www.monoblet.fr/event/randonnee-caminar-4/
CATEGORIES:Animation
END:VEVENT
BEGIN:VEVENT
DTSTART;TZID=Europe/Paris:20260521T133000
DTEND;TZID=Europe/Paris:20260521T133000
DTSTAMP:20260420T130839
CREATED:20251202T103842Z
LAST-MODIFIED:20260320T150143Z
UID:8973-1779370200-1779370200@www.monoblet.fr
SUMMARY:Petite Randonnée Aïsounet 
DESCRIPTION:L’association Caminar vous donne rendez-vous parking du Temple\, départ à 13h30 pour une petite randonnée Aïsounet. Prévoir eau et matériel de randonnée adapté à la météo et à la saison.\nCovoiturage participatif depuis Monoblet. Peut être annulé en cas de mauvais temps.info : 06 45 58 91 18 \n           \n 
URL:https://www.monoblet.fr/event/petite-randonnee-aisounet-5/
CATEGORIES:Animation
END:VEVENT
BEGIN:VEVENT
DTSTART;TZID=Europe/Paris:20260521T203000
DTEND;TZID=Europe/Paris:20260521T203000
DTSTAMP:20260420T130839
CREATED:20240610T110716Z
LAST-MODIFIED:20251009T132119Z
UID:6196-1779395400-1779395400@www.monoblet.fr
SUMMARY:Echo des Arts
DESCRIPTION:Dans la salle culturelle\, le jeudi 21 mai à 20h30\, Écho des Arts accueille Erev Trio\, trois artistes\, quatre instruments\, un chant\, une seule voie : celle d’un voyage musical où chaque instrument devient tour à tour le narrateur d’une histoire sonore envoûtante. Leur musique\, tantôt intime\, tantôt éclatante\, est une invitation à voyager à travers les époques et les cultures.\nRenseignement et Réservation : https://www.facebook.com/SpectaclesMonoblet/\nAdresse mail: echodesarts.monoblet@gmail.com Téléphone: 04 66 78 60 39\n \n 
URL:https://www.monoblet.fr/event/echo-des-arts-44/
CATEGORIES:Culture,Spectacles
END:VEVENT
BEGIN:VEVENT
DTSTART;TZID=Europe/Paris:20260524T100000
DTEND;TZID=Europe/Paris:20260524T100000
DTSTAMP:20260420T130839
CREATED:20220127T180613Z
LAST-MODIFIED:20251123T094636Z
UID:1999-1779616800-1779616800@www.monoblet.fr
SUMMARY:L'USMonoblet reçoit
DESCRIPTION:Sur le stade municipal\, l’équipe des U17 de l’USMonoblet  reçoit Calvisson FC.
URL:https://www.monoblet.fr/event/lusmonoblet-recoit-16/
CATEGORIES:Football
END:VEVENT
BEGIN:VEVENT
DTSTART;TZID=Europe/Paris:20260530T203000
DTEND;TZID=Europe/Paris:20260530T203000
DTSTAMP:20260420T130839
CREATED:20231023T082851Z
LAST-MODIFIED:20260227T095255Z
UID:4978-1780173000-1780173000@www.monoblet.fr
SUMMARY:Écho des Arts
DESCRIPTION:Dans la salle B. Meulien à 20h30\, l’association Echo de Arts reçoit Thomas Pitiot : Thomas Pitiot\, c’est près de 25 ans de chansons. La relation à l’autre et la recherche d’une humanité en partage demeurent le fil conducteur de ses textes et de ses passerelles musicales. La formule trio est un savant mélange de chansons d’hier et d’aujourd’hui\, qui lui permet de mettre en avant des textes chargés de sens tout en créant des atmosphères musicales variées\, passant de la ballade à la danse.\nLe trio est composé de Thomas PITIOT (chant\, guitare)\, Michel KANUTY (piano\, claviers)\, Arno de CASANOVE (trompette\, claviers\, chœurs\, percussions).\nRenseignement et Réservation : https://www.facebook.co/SpectaclesMonoblet/\nAdresse mail: echodesarts.monoblet@gmail.com Téléphone: 04 66 78 60 39 \n 
URL:https://www.monoblet.fr/event/echo-des-arts-38/
CATEGORIES:Culture,Spectacles
END:VEVENT
BEGIN:VEVENT
DTSTART;VALUE=DATE:20260531
DTEND;VALUE=DATE:20260601
DTSTAMP:20260420T130839
CREATED:20241016T162940Z
LAST-MODIFIED:20260320T145912Z
UID:6872-1780185600-1780271999@www.monoblet.fr
SUMMARY:Randonnée Caminar
DESCRIPTION:Journée Randonnée\nL’association Caminar vous donne rendez-vous parking du Temple. Prévoir Pique-nique\, eau et matériel adapté.\nCovoiturage participatif. Peut être annulé selon météo.\n​Info  06 45 58 91 18
URL:https://www.monoblet.fr/event/randonnee-caminar-au-dessus-de-lasalle-des-9h/
CATEGORIES:Animation
END:VEVENT
BEGIN:VEVENT
DTSTART;VALUE=DATE:20260614
DTEND;VALUE=DATE:20260615
DTSTAMP:20260420T130839
CREATED:20231022T161556Z
LAST-MODIFIED:20251126T143327Z
UID:4965-1781395200-1781481599@www.monoblet.fr
SUMMARY:GALA de Lo Quinquet
DESCRIPTION:Sur la place des Magnans\, à partir de 16h\, fête de fin d’année des ateliers de l’Association Lo Quinquet (expositions\, concert…).\nBuvette et petite restauration sur place
URL:https://www.monoblet.fr/event/gala-de-lo-quinquet-3/
CATEGORIES:Animation,Culture
END:VEVENT
BEGIN:VEVENT
DTSTART;TZID=Europe/Paris:20260618T203000
DTEND;TZID=Europe/Paris:20260618T203000
DTSTAMP:20260420T130839
CREATED:20240421T161641Z
LAST-MODIFIED:20251009T132445Z
UID:5924-1781814600-1781814600@www.monoblet.fr
SUMMARY:Écho des Arts
DESCRIPTION:Dans la salle culturelle B. Meulien\, le jeudi 18 juin à 20h30\, l’association Écho des Arts reçoit  Aiocá\, un duo de jazz et musiques brésiliennes\, intimiste\, énergique et dansant tout à la fois\, il explore les liens musicaux entre le jazz et le choro\, deux genres musicaux nés en Amérique au tournant du XXème siècle et fruits d’un métissage entre cultures africaines et européennes. Dans sa recherche artistique\, le duo s’appuie sur les richesses des sonorités du violon\, du piano et de la voix pour créer différentes textures et univers acoustiques\nRenseignement et Réservation : https://www.facebook.com/SpectaclesMonoblet/\nAdresse mail: echodesarts.monoblet@gmail.com /Téléphone: 04 66 78 60 39 \n 
URL:https://www.monoblet.fr/event/echo-des-arts-43/
CATEGORIES:Culture,Spectacles
END:VEVENT
BEGIN:VEVENT
DTSTART;VALUE=DATE:20260627
DTEND;VALUE=DATE:20260628
DTSTAMP:20260420T130839
CREATED:20221110T150916Z
LAST-MODIFIED:20250903T132529Z
UID:3350-1782518400-1782604799@www.monoblet.fr
SUMMARY:Fête de l'école
DESCRIPTION:L’école et l’APE proposent la fête de fin d’année scolaire : renseignements à venir
URL:https://www.monoblet.fr/event/fete-de-lecole-3/
CATEGORIES:Animation
END:VEVENT
BEGIN:VEVENT
DTSTART;TZID=Europe/Paris:20260723T210000
DTEND;TZID=Europe/Paris:20260723T210000
DTSTAMP:20260420T130839
CREATED:20241030T082607Z
LAST-MODIFIED:20260227T095556Z
UID:7015-1784840400-1784840400@www.monoblet.fr
SUMMARY:Écho des Arts
DESCRIPTION:Dans la salle B. Meulien\, à 21h\, l’association Écho des Arts propose une soirée Flamenco  : «MADRUGADA» est une Compagnie de flamenco traditionnel fondée dans les années 80 par le guitariste nîmois Antonio CHIQUERO et la danseuse Juana RODRIGUEZ. Pour leur dernière création 2026\, ils sont entourés du chanteur percussionniste Mateo CAMPOS et d’un corps de ballet.Une création poignante et généreuse qui invite le public au partage d’instants d’authenticité et de pur “duende” aux travers de compositions originales inspirées du riche répertoire andalou.\nRenseignement et Réservation : https://www.facebook.com/SpectaclesMonoblet/\nAdresse mail: echodesarts.monoblet@gmail.com Téléphone: 04 66 78 60 39
URL:https://www.monoblet.fr/event/echo-des-arts-51/
CATEGORIES:Culture,Spectacles
END:VEVENT
BEGIN:VEVENT
DTSTART;TZID=Europe/Paris:20260730T210000
DTEND;TZID=Europe/Paris:20260730T210000
DTSTAMP:20260420T130839
CREATED:20250208T091822Z
LAST-MODIFIED:20260227T100208Z
UID:7522-1785445200-1785445200@www.monoblet.fr
SUMMARY:Écho des Arts
DESCRIPTION:Dans la salle B. Meulien\, à 21h\, l’association Écho des Arts propose une soirée de musique classique avec un quatuor à cordes.\nRenseignement et Réservation : https://www.facebook.co/SpectaclesMonoblet/\nAdresse mail: echodesarts.monoblet@gmail.com Téléphone: 04 66 78 60 39 \n\n\n\n\n\n\n\n  \n 
URL:https://www.monoblet.fr/event/echo-des-arts-55/
CATEGORIES:Culture,Spectacles
END:VEVENT
BEGIN:VEVENT
DTSTART;VALUE=DATE:20260731
DTEND;VALUE=DATE:20260803
DTSTAMP:20260420T130839
CREATED:20211204T180104Z
LAST-MODIFIED:20260330T162507Z
UID:1794-1785456000-1785715199@www.monoblet.fr
SUMMARY:Fête votive de l'USMonoblet
DESCRIPTION:L’USMonoblet organise la fête votive\, les 31 juillet\, 1er et 2 août.
URL:https://www.monoblet.fr/event/fete-votive/
CATEGORIES:Animation,Football
END:VEVENT
BEGIN:VEVENT
DTSTART;TZID=Europe/Paris:20260813T200000
DTEND;TZID=Europe/Paris:20260813T200000
DTSTAMP:20260420T130839
CREATED:20231117T140022Z
LAST-MODIFIED:20260402T164322Z
UID:5135-1786651200-1786651200@www.monoblet.fr
SUMMARY:Cinéma pour Legmoin
DESCRIPTION:L’Association cévenole pour Legmoin Burkina Faso propose sa traditionnelle soirée sous les étoiles. Rens. à venir \n 
URL:https://www.monoblet.fr/event/cinema-pour-legmoin-3/
CATEGORIES:Animation,Cinéma,Culture
END:VEVENT
BEGIN:VEVENT
DTSTART;TZID=Europe/Paris:20260820T210000
DTEND;TZID=Europe/Paris:20260820T210000
DTSTAMP:20260420T130839
CREATED:20250427T173425Z
LAST-MODIFIED:20260227T100524Z
UID:7952-1787259600-1787259600@www.monoblet.fr
SUMMARY:Opéra vision Echo des Arts
DESCRIPTION:Peu d’opéras auront connu un sort aussi enviable que le Faust de Gounod : succès flamboyant dès la première\, carrière internationale\, opéra français le plus joué au monde\, juste derrière Carmen. Mais faut-il prendre ce Faust au pied de la lettre ? Ou y voir\, au détour de la fable\, une célébration des plaisirs ?\nProduction Opéra de Lille – Coproduction Opéra-Comique / Palazzetto Bru Zane\nhttps://www.facebook.com/SpectaclesMonoblet / https://www.echodesarts.com/ \n 
URL:https://www.monoblet.fr/event/soiree-cinema-echo-des-arts/
CATEGORIES:Cinéma,Culture,Spectacles
END:VEVENT
BEGIN:VEVENT
DTSTART;TZID=Europe/Paris:20260924T203000
DTEND;TZID=Europe/Paris:20260924T203000
DTSTAMP:20260420T130839
CREATED:20241030T075343Z
LAST-MODIFIED:20251009T133124Z
UID:7007-1790281800-1790281800@www.monoblet.fr
SUMMARY:Écho des Arts
DESCRIPTION:Dans la salle B. Meulien\, le 24 septembre à 20h30\, l’association Écho des Arts propose Zam Dam\, duo de ré-adaptation des belles chansons françaises autour de l’amour des années 70′ dans une forme plus rythmée et un brin théâtrale\, aux couleurs latino et africaine !\nCristobal est guitariste et chanteur\, inspiré et nourrit par le samba et la bossa nova brésilienne\, Camille est chanteuse et danseuse\, elle joue du ukulele et des percussions mineures.\nRenseignement et Réservation : https://www.facebook.com/SpectaclesMonoblet/\nAdresse mail: echodesarts.monoblet@gmail.com Téléphone: 04 66 78 60 39 \n 
URL:https://www.monoblet.fr/event/echo-des-arts-50/
CATEGORIES:Culture,Stages
END:VEVENT
BEGIN:VEVENT
DTSTART;TZID=Europe/Paris:20261008T210000
DTEND;TZID=Europe/Paris:20261008T210000
DTSTAMP:20260420T130839
CREATED:20231103T081000Z
LAST-MODIFIED:20251009T133632Z
UID:5046-1791493200-1791493200@www.monoblet.fr
SUMMARY:Écho des Arts
DESCRIPTION:Dans la salle culturelle B. Meulien\, le jeudi 8 octobre à 20h30\, l’association Écho des Arts propose “L’arbre aux huit péchés”\, une flânerie poétique et musicale autour « des huit péchés capitaux » du poète et parolier Bernard DIMEY. Dans cette création originale\, le public est invité à participer tout au long de cette balade\, à un spectacle interactif mêlant poésies en musique et chansons françaises. L’interprétation théâtralisée de Jean-Paul en complicité avec l’imaginaire musical de Cyril\, distillent cette savoureuse et accessible poésie pleine d’humour et d’humanisme.\nRenseignement et Réservation : https://www.facebook.com/SpectaclesMonoblet/\nAdresse mail: echodesarts.monoblet@gmail.com Téléphone: 04 66 78 60 39 \n 
URL:https://www.monoblet.fr/event/echo-des-arts-40/
CATEGORIES:Animation,Culture,Spectacles
END:VEVENT
BEGIN:VEVENT
DTSTART;VALUE=DATE:20261019
DTEND;VALUE=DATE:20261024
DTSTAMP:20260420T130839
CREATED:20231006T140000Z
LAST-MODIFIED:20251202T100002Z
UID:4824-1792368000-1792799999@www.monoblet.fr
SUMMARY:Stage de cirque enfants
DESCRIPTION:Les associations Lo Quinquet et Extra Show proposent un stage de cirque pour enfant avec Marion – Inscription obligatoire à loquinquet@gmail.com / site internet www.loquinquet.com / 0634382136 \n 
URL:https://www.monoblet.fr/event/stage-de-cirque-enfants-2/
CATEGORIES:Animation,Spectacles,Stages
END:VEVENT
BEGIN:VEVENT
DTSTART;TZID=Europe/Paris:20261119T203000
DTEND;TZID=Europe/Paris:20261119T203000
DTSTAMP:20260420T130839
CREATED:20241029T090411Z
LAST-MODIFIED:20260227T101047Z
UID:6988-1795120200-1795120200@www.monoblet.fr
SUMMARY:Cinéma Écho des Arts
DESCRIPTION:Dans la salle B. Meulien à 20h30\, l’association Echo de Arts propose Metropolis\, réalisé par Fritz Lang en 1927\, considéré comme l’un des premiers films de science-fiction (qui se passe en 2026!)\, et a influencé toute la production ultérieure. Initialement un échec commercial\, il a été restauré et est aujourd’hui reconnu comme l’un des meilleurs films du cinéma mondial\nRenseignement et Réservation : https://www.facebook.co/SpectaclesMonoblet/\nAdresse mail: echodesarts.monoblet@gmail.com Téléphone: 04 66 78 60 39 \n  \n 
URL:https://www.monoblet.fr/event/echo-des-arts-47/
CATEGORIES:Cinéma,Culture
END:VEVENT
BEGIN:VEVENT
DTSTART;TZID=Europe/Paris:20261210T203000
DTEND;TZID=Europe/Paris:20261210T203000
DTSTAMP:20260420T130839
CREATED:20231024T150212Z
LAST-MODIFIED:20260227T101452Z
UID:5002-1796934600-1796934600@www.monoblet.fr
SUMMARY:Écho des Arts
DESCRIPTION:Ce 10 décembre\, l’association Écho es Arts propose une soiré musicale et reçoit Frédéric MONZO\, un personnage singulier\, libre\, indépendant qui se nourrit de tous les styles de musique. Il propose un spectacle où le Jazz\, le classique\, la chanson Française et des compositions originales nous font voyager d’un style à l’autre comme s’il n’y en avait qu’un.\nRenseignement et Réservation : https://www.facebook.com/SpectaclesMonoblet/\nAdresse mail: echodesarts.monoblet@gmail.com Téléphone: 04 66 78 60 39 \n 
URL:https://www.monoblet.fr/event/echo-des-arts-39/
CATEGORIES:Culture,Spectacles
END:VEVENT
END:VCALENDAR